BEGIN:VCALENDAR
VERSION:2.0
PRODID:-//AM - ECPv6.15.20//NONSGML v1.0//EN
CALSCALE:GREGORIAN
METHOD:PUBLISH
X-WR-CALNAME:AM
X-ORIGINAL-URL:https://www.aminstruments.com
X-WR-CALDESC:Eventi per AM
REFRESH-INTERVAL;VALUE=DURATION:PT1H
X-Robots-Tag:noindex
X-PUBLISHED-TTL:PT1H
BEGIN:VTIMEZONE
TZID:Europe/Rome
BEGIN:DAYLIGHT
TZOFFSETFROM:+0100
TZOFFSETTO:+0200
TZNAME:CEST
DTSTART:20250330T010000
END:DAYLIGHT
BEGIN:STANDARD
TZOFFSETFROM:+0200
TZOFFSETTO:+0100
TZNAME:CET
DTSTART:20251026T010000
END:STANDARD
BEGIN:DAYLIGHT
TZOFFSETFROM:+0100
TZOFFSETTO:+0200
TZNAME:CEST
DTSTART:20260329T010000
END:DAYLIGHT
BEGIN:STANDARD
TZOFFSETFROM:+0200
TZOFFSETTO:+0100
TZNAME:CET
DTSTART:20261025T010000
END:STANDARD
BEGIN:DAYLIGHT
TZOFFSETFROM:+0100
TZOFFSETTO:+0200
TZNAME:CEST
DTSTART:20270328T010000
END:DAYLIGHT
BEGIN:STANDARD
TZOFFSETFROM:+0200
TZOFFSETTO:+0100
TZNAME:CET
DTSTART:20271031T010000
END:STANDARD
END:VTIMEZONE
BEGIN:VEVENT
DTSTART;VALUE=DATE:20260422
DTEND;VALUE=DATE:20260424
DTSTAMP:20260422T130634
CREATED:20260416T072049Z
LAST-MODIFIED:20260416T072144Z
UID:5866-1776816000-1776988799@www.aminstruments.com
SUMMARY:PDA Italy Chapter - Excellence on Manufacturing Process: from API to Filling
DESCRIPTION:Siamo lieti di partecipare a “Excellence on Manufacturing Process: from API to Filling”\, organizzato dal PDA Italy Chapter.\nQuesta conferenza di due giorni riunirà esperti di settore\, enti regolatori\, rappresentanti dell’accademia e fornitori di tecnologia per esplorare gli sviluppi più recenti lungo l’intera catena del valore della produzione farmaceutica — dalla produzione degli API fino al riempimento asettico.\nIl programma affronterà temi chiave\, tra cui: \nprospettive regolatorie e strategie di controllo della contaminazione\nsimulazione dei processi e progressi nel processing asettico\nautomazione\, ingegneria e soluzioni di riempimento robotizzato\nproduzione di piccoli lotti\, scale-up e flessibilità\nsfide di approvvigionamento e innovazione nella produzione farmaceutica \nOspitato in una struttura unica e di grande rilevanza storica\, l’evento offrirà inoltre preziose opportunità di networking e una visita guidata del sito. \nLink alla registrazione
URL:https://www.aminstruments.com/evento/pda-italy-chapter-excellence-on-manufacturing-process-from-api-to-filling/
LOCATION:Stabilimento chimico farmaceutico militare – Firenze\, Via Reginaldo Giuliani 201\, Firenze\, Italy
ATTACH;FMTTYPE=image/png:https://www.aminstruments.com/wp-content/uploads/2025/02/pdalogo-new-1.png
END:VEVENT
END:VCALENDAR