BEGIN:VCALENDAR
VERSION:2.0
PRODID:-//AM - ECPv6.15.20//NONSGML v1.0//EN
CALSCALE:GREGORIAN
METHOD:PUBLISH
X-WR-CALNAME:AM
X-ORIGINAL-URL:https://www.aminstruments.com
X-WR-CALDESC:Eventi per AM
REFRESH-INTERVAL;VALUE=DURATION:PT1H
X-Robots-Tag:noindex
X-PUBLISHED-TTL:PT1H
BEGIN:VTIMEZONE
TZID:Europe/Rome
BEGIN:DAYLIGHT
TZOFFSETFROM:+0100
TZOFFSETTO:+0200
TZNAME:CEST
DTSTART:20240331T010000
END:DAYLIGHT
BEGIN:STANDARD
TZOFFSETFROM:+0200
TZOFFSETTO:+0100
TZNAME:CET
DTSTART:20241027T010000
END:STANDARD
BEGIN:DAYLIGHT
TZOFFSETFROM:+0100
TZOFFSETTO:+0200
TZNAME:CEST
DTSTART:20250330T010000
END:DAYLIGHT
BEGIN:STANDARD
TZOFFSETFROM:+0200
TZOFFSETTO:+0100
TZNAME:CET
DTSTART:20251026T010000
END:STANDARD
BEGIN:DAYLIGHT
TZOFFSETFROM:+0100
TZOFFSETTO:+0200
TZNAME:CEST
DTSTART:20260329T010000
END:DAYLIGHT
BEGIN:STANDARD
TZOFFSETFROM:+0200
TZOFFSETTO:+0100
TZNAME:CET
DTSTART:20261025T010000
END:STANDARD
END:VTIMEZONE
BEGIN:VEVENT
DTSTART;VALUE=DATE:20251009
DTEND;VALUE=DATE:20251010
DTSTAMP:20260424T130857
CREATED:20250905T110223Z
LAST-MODIFIED:20250905T110305Z
UID:5102-1759968000-1760054399@www.aminstruments.com
SUMMARY:MEET THE EXPERTS: Methods and strategies to address challenges in contamination control for pharmaceutical environments
DESCRIPTION:AM | Ecolab presentano l’evento dedicato all’aggiornamento essenziale per garantire la corretta applicazione della Contamination Control Strategy nei processi di pulizia e disinfezione di ambienti classificati. \nRegistrati ora \nAgenda\n\nCase Study: Contamination control assessment cleaning and disinfection\n\nQuesta presentazione approfondisce i principi della Contamination Control Strategy (CCS) nell’industria farmaceutica\, con un focus sui processi di pulizia e disinfezione. Vengono trattati gli elementi chiave come la contaminazione microbica e particellare e la garanzia di sterilità: un caso studio relativo alla gestione dei residui e ai processi di trasferimento dei materiali in una produzione farmaceutica sterile\, sottolineando le misure di protezione e le tecniche di disinfezione efficaci.\n\n\nAssessment and management of disinfectant residues in the cleanroom (theoretical and practical session)\n\n\nConsiderando la versione rivista dell’EudraLex Annex 1 Volume 4\, pubblicata ad agosto 2022\, la gestione dei residui ha acquisito maggiore importanza\, con riferimenti in quattro diverse sezioni del documento. In particolare\, nella sezione “Disinfezione”\, il paragrafo 4.33 afferma: “Cleaning programes should effectively remove disinfectant residues”. Questa presentazione dimostra come la sola valutazione visiva (visual inspection) possa non essere sufficiente per la corretta gestione dei residui e introduce un metodo analitico pubblicato da Ecolab per rilevare i residui di disinfettante su una superficie e la sua applicazione per la verifica dell’efficacia delle tecniche di risciacquo.\n\n\n\n\nWorkshop: Material Transfer  (theoretical and practical session)\n\nUna dimostrazione pratica sull’importanza di utilizzare la corretta tecnica di pulizia del packaging mediante l’uso corretto dei panni durante il processo di trasferimento dei materiali\, rispettando i salti di classe; in questa occasione\, vengono esaminati i metodi efficaci per la rimozione della contaminazione dagli imballaggi.\n\n\n\n\nAddressing the challenge of Mould in GMP Environments\n\nLa contaminazione da funghi e lieviti negli ambienti a contaminazione controllata può rappresentare una sfida significativa per la produzione del farmaco\, in quanto comporta il rischio di compromettere la qualità del prodotto finito e la sicurezza del paziente. Comprenderne la complessità\, inclusi i principali ceppi di interesse\, è essenziale per implementare misure di controllo efficaci.Questa presentazione tratta la morfologia di funghi e lieviti\, le possibili fonti di contaminazione\, i rischi e le sfide che essi comportano e la necessità di strutturare un sistema di azioni preventive e correttive (CAPA plan) in grado di evitare problemi di non conformità normativa.
URL:https://www.aminstruments.com/evento/meet-the-experts-methods-and-strategies-to-address-challenges-in-contamination-control-for-pharmaceutical-environments/
LOCATION:AM\, Via Isonzo 1/C\, Limbiate\, N/A\, 20812\, Italy
ATTACH;FMTTYPE=image/png:https://www.aminstruments.com/wp-content/uploads/2025/03/ecolab_logo.png
END:VEVENT
END:VCALENDAR